BEGIN:VCALENDAR
VERSION:2.0
PRODID:-//Plone.org//NONSGML plone.app.event//EN
X-WR-TIMEZONE:America/Sao_Paulo
BEGIN:VEVENT
SUMMARY:Defesa de dissertação - Eduardo Gomes Vasques
DTSTART;TZID=America/Sao_Paulo;VALUE=DATE-TIME:20220302T143000
DTSTAMP;VALUE=DATE-TIME:20260424T002626Z
UID:602427d988ca4927a59a4851e8a69921@www.ppgech.ufscar.br:8000
URL:https://www.ppgech.ufscar.br/pt-br/events/defesa-de-dissertacao-eduard
 o-gomes-vasques
END:VEVENT
BEGIN:VTIMEZONE
TZID:America/Sao_Paulo
X-LIC-LOCATION:America/Sao_Paulo
BEGIN:STANDARD
DTSTART;VALUE=DATE-TIME:20190216T230000
TZNAME:-03
TZOFFSETFROM:-0200
TZOFFSETTO:-0300
END:STANDARD
END:VTIMEZONE
END:VCALENDAR
